BEGIN:VCALENDAR
METHOD:PUBLISH
VERSION:2.0
PRODID:-//hacksw/handcal//NONSGML v1.0//EN
X-WR-TIMEZONE:Australia/Sydney
CALSCALE:GREGORIAN
BEGIN:VEVENT
DTSTART;TZID=Australia/Sydney:20260503T080000
DTEND;TZID=Australia/Sydney:20260503T103000
UID:1243782281069E84D56309478003850431599148647069E84D56309582568104
DTSTAMP:20260423T003223
LOCATION:St Ives Showground.  Mona Vale Rd   St Ives
DESCRIPTION:Cost - $5 at the gate for display cars Spectators are free Cof
 fee and food available for purchase Mix of Veteran, Vintage, Classic and E
 xotic Supercars on display  
URL;VALUE=URI:http://nswsaab.club/events/view.php?id=1243782281069E84D5630
 9478003850431599148647069E84D56309582568104
SUMMARY:Cars and Coffee at St Ives Showground. 3rd May
END:VEVENT
END:VCALENDAR
